BEGIN:VCALENDAR
VERSION:2.0
PRODID:-//Shushan Ghazaryan - ECPv6.15.12.2//NONSGML v1.0//EN
CALSCALE:GREGORIAN
METHOD:PUBLISH
X-ORIGINAL-URL:https://shushan-ghazaryan.com
X-WR-CALDESC:Veranstaltungen für Shushan Ghazaryan
REFRESH-INTERVAL;VALUE=DURATION:PT1H
X-Robots-Tag:noindex
X-PUBLISHED-TTL:PT1H
BEGIN:VTIMEZONE
TZID:Europe/Berlin
BEGIN:DAYLIGHT
TZOFFSETFROM:+0100
TZOFFSETTO:+0200
TZNAME:CEST
DTSTART:20220327T010000
END:DAYLIGHT
BEGIN:STANDARD
TZOFFSETFROM:+0200
TZOFFSETTO:+0100
TZNAME:CET
DTSTART:20221030T010000
END:STANDARD
BEGIN:DAYLIGHT
TZOFFSETFROM:+0100
TZOFFSETTO:+0200
TZNAME:CEST
DTSTART:20230326T010000
END:DAYLIGHT
BEGIN:STANDARD
TZOFFSETFROM:+0200
TZOFFSETTO:+0100
TZNAME:CET
DTSTART:20231029T010000
END:STANDARD
BEGIN:DAYLIGHT
TZOFFSETFROM:+0100
TZOFFSETTO:+0200
TZNAME:CEST
DTSTART:20240331T010000
END:DAYLIGHT
BEGIN:STANDARD
TZOFFSETFROM:+0200
TZOFFSETTO:+0100
TZNAME:CET
DTSTART:20241027T010000
END:STANDARD
END:VTIMEZONE
BEGIN:VEVENT
DTSTART;TZID=Europe/Berlin:20230712T202000
DTEND;TZID=Europe/Berlin:20230712T202000
DTSTAMP:20260425T222202
CREATED:20231105T225725Z
LAST-MODIFIED:20231105T225813Z
UID:5523-1689193200-1689193200@shushan-ghazaryan.com
SUMMARY:Guitar Festival Mikulov
DESCRIPTION:Program: Marek Pasieczny – Ex Nihilo (Nihil Fit) \n\n\n\nGuitar Orchestra (Students of the University for Music and Theater Rostock and the International Guitar Academy Berlin) under the button of Thomas Offermann \n\n\n\nSoloists: Pia Gazarek Offermann\, Marek Pasieczny
URL:https://shushan-ghazaryan.com/event/guitar-festival-mikulov/
LOCATION:Castle Mikulov
END:VEVENT
END:VCALENDAR