BEGIN:VCALENDAR
VERSION:2.0
PRODID:-//Shushan Ghazaryan - ECPv6.15.12.2//NONSGML v1.0//EN
CALSCALE:GREGORIAN
METHOD:PUBLISH
X-WR-CALNAME:Shushan Ghazaryan
X-ORIGINAL-URL:https://shushan-ghazaryan.com
X-WR-CALDESC:Veranstaltungen für Shushan Ghazaryan
REFRESH-INTERVAL;VALUE=DURATION:PT1H
X-Robots-Tag:noindex
X-PUBLISHED-TTL:PT1H
BEGIN:VTIMEZONE
TZID:Europe/Berlin
BEGIN:DAYLIGHT
TZOFFSETFROM:+0100
TZOFFSETTO:+0200
TZNAME:CEST
DTSTART:20220327T010000
END:DAYLIGHT
BEGIN:STANDARD
TZOFFSETFROM:+0200
TZOFFSETTO:+0100
TZNAME:CET
DTSTART:20221030T010000
END:STANDARD
BEGIN:DAYLIGHT
TZOFFSETFROM:+0100
TZOFFSETTO:+0200
TZNAME:CEST
DTSTART:20230326T010000
END:DAYLIGHT
BEGIN:STANDARD
TZOFFSETFROM:+0200
TZOFFSETTO:+0100
TZNAME:CET
DTSTART:20231029T010000
END:STANDARD
BEGIN:DAYLIGHT
TZOFFSETFROM:+0100
TZOFFSETTO:+0200
TZNAME:CEST
DTSTART:20240331T010000
END:DAYLIGHT
BEGIN:STANDARD
TZOFFSETFROM:+0200
TZOFFSETTO:+0100
TZNAME:CET
DTSTART:20241027T010000
END:STANDARD
BEGIN:DAYLIGHT
TZOFFSETFROM:+0100
TZOFFSETTO:+0200
TZNAME:CEST
DTSTART:20250330T010000
END:DAYLIGHT
BEGIN:STANDARD
TZOFFSETFROM:+0200
TZOFFSETTO:+0100
TZNAME:CET
DTSTART:20251026T010000
END:STANDARD
BEGIN:DAYLIGHT
TZOFFSETFROM:+0100
TZOFFSETTO:+0200
TZNAME:CEST
DTSTART:20260329T010000
END:DAYLIGHT
BEGIN:STANDARD
TZOFFSETFROM:+0200
TZOFFSETTO:+0100
TZNAME:CET
DTSTART:20261025T010000
END:STANDARD
END:VTIMEZONE
BEGIN:VEVENT
DTSTART;TZID=Europe/Berlin:20251206T110000
DTEND;TZID=Europe/Berlin:20251206T180000
DTSTAMP:20260420T152351
CREATED:20251123T222241Z
LAST-MODIFIED:20251123T222250Z
UID:5801-1765018800-1765044000@shushan-ghazaryan.com
SUMMARY:Gitarrentag im Konservatorium Schwerin
DESCRIPTION:wir laden Sie herzlich zum Gitarrentag am Samstag\, 06. Dezember 2025 ins Konservatorium Schwerin\, Puschkinstraße 6\, 19055 Schwerin\, ein. \n\n\n\nDie Teilnahme am gesamten Gitarrentag ist kostenfrei und richtet sich an alle Gitarrenbegeisterten – von Anfänger:innen bis Fortgeschrittenen\, aller Altersgruppen. Besonders empfehlenswert ist die Teilnahme zur Vorbereitung auf den Wettbewerb „Jugend musiziert“. \n\n\n\nProgrammüberblick \n\n\n\nAbschlusskonzert um 16:00 Uhr im Brigitte Feldtmann Saal \n\n\n\nMeisterkurse ab 11:00 Uhr mit Prof. Dr. Thomas Offermann und Tristan Angenendt(Die Meisterkurse werden großzügig von YARO gesponsert – vielen Dank!) \n\n\n\nWorkshops zum Mitmachen: \n\n\n\nDas Griffbrett verstehen – alle Noten finden um 12:00 Uhr (I. Lage) \n\n\n\nDas Griffbrett verstehen – alle Noten finden um 13:00 Uhr (ab V. Lage) \n\n\n\nRhythmus und Akkorde um 14:00 Uhr
URL:https://shushan-ghazaryan.com/event/gitarrentag-im-konservatorium-schwerin/
CATEGORIES:Workshops
ATTACH;FMTTYPE=image/png:https://shushan-ghazaryan.com/wp-content/uploads/GItarrentag-poster-vorlage.1.png
END:VEVENT
BEGIN:VEVENT
DTSTART;TZID=Europe/Berlin:20250706T130000
DTEND;TZID=Europe/Berlin:20250706T143000
DTSTAMP:20260420T152351
CREATED:20250604T204916Z
LAST-MODIFIED:20250604T214906Z
UID:5746-1751806800-1751812200@shushan-ghazaryan.com
SUMMARY:Konzert in Recknitz
DESCRIPTION:Programm: \n\n\n\nRoland Dyens (1955 – 2016) – Songe Capricorne \n\n\n\nJohann S. Bach (1685 – 1750) – Suite c-Moll BWV 997PréludeFugaSarabandeGigueDouble \n\n\n\nG. Regondi (1823-1872) – Introduction et Caprice\, Op.23 \n\n\n\nM. M. Ponce (1882-1948) – Sonata No. 3I. Allegro moderatoII. Cancion. AndanteIII. Allegro non troppo
URL:https://shushan-ghazaryan.com/event/konzert-in-recknitz/
LOCATION:Kultur.Feldstein.Kirche RECKNITZ\, Recknitz 8 18276 Plaaz
CATEGORIES:Solo Konzerte
ATTACH;FMTTYPE=image/jpeg:https://shushan-ghazaryan.com/wp-content/uploads/2023/10/shushan-ghazaryan-gitarre-schweriner-schlosspark-scaled.jpg
END:VEVENT
BEGIN:VEVENT
DTSTART;TZID=Europe/Berlin:20250614T150000
DTEND;TZID=Europe/Berlin:20250614T154500
DTSTAMP:20260420T152351
CREATED:20250604T204411Z
LAST-MODIFIED:20250604T214935Z
UID:5742-1749913200-1749915900@shushan-ghazaryan.com
SUMMARY:Konzert in Johanniter Tagespflege
DESCRIPTION:Programm:Roland Dyens (1955 – 2016) – Songe Capricorne \n\n\n\nJohann S. Bach (1685 – 1750) – Suite c-Moll BWV 997PréludeFugaSarabandeGigueDouble \n\n\n\nG. Regondi (1823-1872) – Introduction et Caprice\, Op.23
URL:https://shushan-ghazaryan.com/event/konzert-in-johanniter-tagespflege/
LOCATION:Johanniter Tagespflege
CATEGORIES:Solo Konzerte
ATTACH;FMTTYPE=image/jpeg:https://shushan-ghazaryan.com/wp-content/uploads/2023/10/shushan-ghazaryan-2-scaled.jpg
END:VEVENT
BEGIN:VEVENT
DTSTART;TZID=Europe/Berlin:20250605T190000
DTEND;TZID=Europe/Berlin:20250605T210000
DTSTAMP:20260420T152351
CREATED:20250604T204019Z
LAST-MODIFIED:20250604T223029Z
UID:5736-1749150000-1749157200@shushan-ghazaryan.com
SUMMARY:Abschlusskonzert des Müritzer Gitarrenfestivals
DESCRIPTION:Zum Abschluss des Müritzer Gitarrenfestivals vom 2. – 5. Juni 2025 konzertiert Shushan Ghazaryan im Warener Haus des Gastes. Zu Gehör kommen ausgewählte Kompositionen von Barock bis Moderne.
URL:https://shushan-ghazaryan.com/event/abschlusskonzert-des-mueritzer-gitarrenfestivals/
LOCATION:Haus des Gastes Waren (Müritz)\, Neuer Markt 21\, Waren (Müritz)\, 17192\, Germany
CATEGORIES:Solo Konzerte
ATTACH;FMTTYPE=image/png:https://shushan-ghazaryan.com/wp-content/uploads/2022/07/Shushan-Ghazaryan.png
END:VEVENT
BEGIN:VEVENT
DTSTART;TZID=Europe/Berlin:20250502T193000
DTEND;TZID=Europe/Berlin:20250502T210000
DTSTAMP:20260420T152351
CREATED:20250324T012433Z
LAST-MODIFIED:20250604T214832Z
UID:5700-1746214200-1746219600@shushan-ghazaryan.com
SUMMARY:Dido and Aeneas I Barockgitarre im Orchester
DESCRIPTION:Nach zehn Jahren Krieg erobern die Griechen Troja. Der trojanische Prinz Aeneas flüchtet aus seiner zerstörten Stadt\, die in der heutigen Türkei liegt\, und bekommt Asyl bei Dido\, der Königin von Karthago\, im heutigen Tunesien. Dido und Aeneas verlieben sich ineinander. Allerdings ist Aeneas dazu berufen\, eine neue Stadt in Italien zu gründen: das zukünftige Rom … Oder sind seine hochfliegenden Träume doch nur Illusionen\, die ihm eine mächtige Zauberin einflößt? \n\n\n\nIn seiner ausdrucksstarken Oper erfasst Purcell die unterschiedlichen Phasen einer Liebesgeschichte\, die sich rasant auf ihr tragisches Ende zubewegt. Mit ihrer kompakten Struktur\, ihren kraftvollen Figuren\, ihrer dramatischen Wirkung und ihrer expressiven Musik wird Dido and Aeneas als Meisterwerk des englischen Barocks betrachtet. Zu Purcells innovativen Ansätzen zählt\, dass er geschickt Tanzszenen in die Oper integriert\, die ihr eine zusätzliche künstlerische Dimension verleihen. Das Ballett Schwerin und das Musiktheater vereinen ihre Kräfte\, um eine zeitgenössische Interpretation des berühmten Werkes zu präsentieren.
URL:https://shushan-ghazaryan.com/event/dido-and-aeneas-i-barockgitarre-im-orchester-7/
CATEGORIES:Mit Orchester
END:VEVENT
BEGIN:VEVENT
DTSTART;TZID=Europe/Berlin:20250427T150000
DTEND;TZID=Europe/Berlin:20250427T163000
DTSTAMP:20260420T152351
CREATED:20250324T012246Z
LAST-MODIFIED:20250324T012247Z
UID:5698-1745766000-1745771400@shushan-ghazaryan.com
SUMMARY:Dido and Aeneas I Barockgitarre im Orchester
DESCRIPTION:Nach zehn Jahren Krieg erobern die Griechen Troja. Der trojanische Prinz Aeneas flüchtet aus seiner zerstörten Stadt\, die in der heutigen Türkei liegt\, und bekommt Asyl bei Dido\, der Königin von Karthago\, im heutigen Tunesien. Dido und Aeneas verlieben sich ineinander. Allerdings ist Aeneas dazu berufen\, eine neue Stadt in Italien zu gründen: das zukünftige Rom … Oder sind seine hochfliegenden Träume doch nur Illusionen\, die ihm eine mächtige Zauberin einflößt? \n\n\n\nIn seiner ausdrucksstarken Oper erfasst Purcell die unterschiedlichen Phasen einer Liebesgeschichte\, die sich rasant auf ihr tragisches Ende zubewegt. Mit ihrer kompakten Struktur\, ihren kraftvollen Figuren\, ihrer dramatischen Wirkung und ihrer expressiven Musik wird Dido and Aeneas als Meisterwerk des englischen Barocks betrachtet. Zu Purcells innovativen Ansätzen zählt\, dass er geschickt Tanzszenen in die Oper integriert\, die ihr eine zusätzliche künstlerische Dimension verleihen. Das Ballett Schwerin und das Musiktheater vereinen ihre Kräfte\, um eine zeitgenössische Interpretation des berühmten Werkes zu präsentieren.
URL:https://shushan-ghazaryan.com/event/dido-and-aeneas-i-barockgitarre-im-orchester-6/
END:VEVENT
BEGIN:VEVENT
DTSTART;TZID=Europe/Berlin:20250425T193000
DTEND;TZID=Europe/Berlin:20250425T210000
DTSTAMP:20260420T152351
CREATED:20250324T011719Z
LAST-MODIFIED:20250324T011721Z
UID:5695-1745609400-1745614800@shushan-ghazaryan.com
SUMMARY:Dido and Aeneas I Barockgitarre im Orchester
DESCRIPTION:Nach zehn Jahren Krieg erobern die Griechen Troja. Der trojanische Prinz Aeneas flüchtet aus seiner zerstörten Stadt\, die in der heutigen Türkei liegt\, und bekommt Asyl bei Dido\, der Königin von Karthago\, im heutigen Tunesien. Dido und Aeneas verlieben sich ineinander. Allerdings ist Aeneas dazu berufen\, eine neue Stadt in Italien zu gründen: das zukünftige Rom … Oder sind seine hochfliegenden Träume doch nur Illusionen\, die ihm eine mächtige Zauberin einflößt? \n\n\n\nIn seiner ausdrucksstarken Oper erfasst Purcell die unterschiedlichen Phasen einer Liebesgeschichte\, die sich rasant auf ihr tragisches Ende zubewegt. Mit ihrer kompakten Struktur\, ihren kraftvollen Figuren\, ihrer dramatischen Wirkung und ihrer expressiven Musik wird Dido and Aeneas als Meisterwerk des englischen Barocks betrachtet. Zu Purcells innovativen Ansätzen zählt\, dass er geschickt Tanzszenen in die Oper integriert\, die ihr eine zusätzliche künstlerische Dimension verleihen. Das Ballett Schwerin und das Musiktheater vereinen ihre Kräfte\, um eine zeitgenössische Interpretation des berühmten Werkes zu präsentieren.
URL:https://shushan-ghazaryan.com/event/dido-and-aeneas-i-barockgitarre-im-orchester-5/
END:VEVENT
BEGIN:VEVENT
DTSTART;TZID=Europe/Berlin:20250412T193000
DTEND;TZID=Europe/Berlin:20250412T210000
DTSTAMP:20260420T152351
CREATED:20250324T011227Z
LAST-MODIFIED:20250324T011228Z
UID:5693-1744486200-1744491600@shushan-ghazaryan.com
SUMMARY:Dido and Aeneas I Barockgitarre im Orchester
DESCRIPTION:Nach zehn Jahren Krieg erobern die Griechen Troja. Der trojanische Prinz Aeneas flüchtet aus seiner zerstörten Stadt\, die in der heutigen Türkei liegt\, und bekommt Asyl bei Dido\, der Königin von Karthago\, im heutigen Tunesien. Dido und Aeneas verlieben sich ineinander. Allerdings ist Aeneas dazu berufen\, eine neue Stadt in Italien zu gründen: das zukünftige Rom … Oder sind seine hochfliegenden Träume doch nur Illusionen\, die ihm eine mächtige Zauberin einflößt? \n\n\n\nIn seiner ausdrucksstarken Oper erfasst Purcell die unterschiedlichen Phasen einer Liebesgeschichte\, die sich rasant auf ihr tragisches Ende zubewegt. Mit ihrer kompakten Struktur\, ihren kraftvollen Figuren\, ihrer dramatischen Wirkung und ihrer expressiven Musik wird Dido and Aeneas als Meisterwerk des englischen Barocks betrachtet. Zu Purcells innovativen Ansätzen zählt\, dass er geschickt Tanzszenen in die Oper integriert\, die ihr eine zusätzliche künstlerische Dimension verleihen. Das Ballett Schwerin und das Musiktheater vereinen ihre Kräfte\, um eine zeitgenössische Interpretation des berühmten Werkes zu präsentieren.
URL:https://shushan-ghazaryan.com/event/dido-and-aeneas-i-barockgitarre-im-orchester-4/
END:VEVENT
BEGIN:VEVENT
DTSTART;TZID=Europe/Berlin:20250405T193000
DTEND;TZID=Europe/Berlin:20250405T210000
DTSTAMP:20260420T152351
CREATED:20250324T010926Z
LAST-MODIFIED:20250324T010927Z
UID:5691-1743881400-1743886800@shushan-ghazaryan.com
SUMMARY:Dido and Aeneas I Barockgitarre im Orchester
DESCRIPTION:Nach zehn Jahren Krieg erobern die Griechen Troja. Der trojanische Prinz Aeneas flüchtet aus seiner zerstörten Stadt\, die in der heutigen Türkei liegt\, und bekommt Asyl bei Dido\, der Königin von Karthago\, im heutigen Tunesien. Dido und Aeneas verlieben sich ineinander. Allerdings ist Aeneas dazu berufen\, eine neue Stadt in Italien zu gründen: das zukünftige Rom … Oder sind seine hochfliegenden Träume doch nur Illusionen\, die ihm eine mächtige Zauberin einflößt? \n\n\n\nIn seiner ausdrucksstarken Oper erfasst Purcell die unterschiedlichen Phasen einer Liebesgeschichte\, die sich rasant auf ihr tragisches Ende zubewegt. Mit ihrer kompakten Struktur\, ihren kraftvollen Figuren\, ihrer dramatischen Wirkung und ihrer expressiven Musik wird Dido and Aeneas als Meisterwerk des englischen Barocks betrachtet. Zu Purcells innovativen Ansätzen zählt\, dass er geschickt Tanzszenen in die Oper integriert\, die ihr eine zusätzliche künstlerische Dimension verleihen. Das Ballett Schwerin und das Musiktheater vereinen ihre Kräfte\, um eine zeitgenössische Interpretation des berühmten Werkes zu präsentieren.
URL:https://shushan-ghazaryan.com/event/dido-and-aeneas-i-barockgitarre-im-orchester-3/
END:VEVENT
BEGIN:VEVENT
DTSTART;TZID=Europe/Berlin:20250330T180000
DTEND;TZID=Europe/Berlin:20250330T193000
DTSTAMP:20260420T152351
CREATED:20250324T010609Z
LAST-MODIFIED:20250324T010610Z
UID:5678-1743357600-1743363000@shushan-ghazaryan.com
SUMMARY:Dido and Aeneas I Barockgitarre im Orchester
DESCRIPTION:Nach zehn Jahren Krieg erobern die Griechen Troja. Der trojanische Prinz Aeneas flüchtet aus seiner zerstörten Stadt\, die in der heutigen Türkei liegt\, und bekommt Asyl bei Dido\, der Königin von Karthago\, im heutigen Tunesien. Dido und Aeneas verlieben sich ineinander. Allerdings ist Aeneas dazu berufen\, eine neue Stadt in Italien zu gründen: das zukünftige Rom … Oder sind seine hochfliegenden Träume doch nur Illusionen\, die ihm eine mächtige Zauberin einflößt? \n\n\n\nIn seiner ausdrucksstarken Oper erfasst Purcell die unterschiedlichen Phasen einer Liebesgeschichte\, die sich rasant auf ihr tragisches Ende zubewegt. Mit ihrer kompakten Struktur\, ihren kraftvollen Figuren\, ihrer dramatischen Wirkung und ihrer expressiven Musik wird Dido and Aeneas als Meisterwerk des englischen Barocks betrachtet. Zu Purcells innovativen Ansätzen zählt\, dass er geschickt Tanzszenen in die Oper integriert\, die ihr eine zusätzliche künstlerische Dimension verleihen. Das Ballett Schwerin und das Musiktheater vereinen ihre Kräfte\, um eine zeitgenössische Interpretation des berühmten Werkes zu präsentieren.
URL:https://shushan-ghazaryan.com/event/dido-and-aeneas-i-barockgitarre-im-orchester-2/
CATEGORIES:Mit Orchester
END:VEVENT
BEGIN:VEVENT
DTSTART;TZID=Europe/Berlin:20250328T193000
DTEND;TZID=Europe/Berlin:20250328T213000
DTSTAMP:20260420T152351
CREATED:20250324T003059Z
LAST-MODIFIED:20250324T011455Z
UID:5667-1743190200-1743197400@shushan-ghazaryan.com
SUMMARY:Premiere I Dido and Aeneas I Barockgitarre im Orchester
DESCRIPTION:Nach zehn Jahren Krieg erobern die Griechen Troja. Der trojanische Prinz Aeneas flüchtet aus seiner zerstörten Stadt\, die in der heutigen Türkei liegt\, und bekommt Asyl bei Dido\, der Königin von Karthago\, im heutigen Tunesien. Dido und Aeneas verlieben sich ineinander. Allerdings ist Aeneas dazu berufen\, eine neue Stadt in Italien zu gründen: das zukünftige Rom … Oder sind seine hochfliegenden Träume doch nur Illusionen\, die ihm eine mächtige Zauberin einflößt? \n\n\n\nIn seiner ausdrucksstarken Oper erfasst Purcell die unterschiedlichen Phasen einer Liebesgeschichte\, die sich rasant auf ihr tragisches Ende zubewegt. Mit ihrer kompakten Struktur\, ihren kraftvollen Figuren\, ihrer dramatischen Wirkung und ihrer expressiven Musik wird Dido and Aeneas als Meisterwerk des englischen Barocks betrachtet. Zu Purcells innovativen Ansätzen zählt\, dass er geschickt Tanzszenen in die Oper integriert\, die ihr eine zusätzliche künstlerische Dimension verleihen. Das Ballett Schwerin und das Musiktheater vereinen ihre Kräfte\, um eine zeitgenössische Interpretation des berühmten Werkes zu präsentieren.
URL:https://shushan-ghazaryan.com/event/dido-and-aeneas-i-barockgitarre-im-orchester/
CATEGORIES:Mit Orchester
END:VEVENT
BEGIN:VEVENT
DTSTART;TZID=Europe/Berlin:20240622T113000
DTEND;TZID=Europe/Berlin:20240622T113000
DTSTAMP:20260420T152351
CREATED:20240605T200907Z
LAST-MODIFIED:20240605T200939Z
UID:5638-1719055800-1719055800@shushan-ghazaryan.com
SUMMARY:Art Exhibition in Berlin
DESCRIPTION:Musikalische Begleitung bei der Ausstelung von Armen Vahramyan und Shota Voskanyan
URL:https://shushan-ghazaryan.com/event/art-exhibition-in-berlin/
LOCATION:Zum Pirol\, Rudi-Dutschke-Platz 1\,\, Nuthe-Urstromtal\, 14947\, Deutschland
CATEGORIES:Solo Konzerte
ATTACH;FMTTYPE=image/jpeg:https://shushan-ghazaryan.com/wp-content/uploads/concert-exhibishon-berlin-poster.jpg
END:VEVENT
BEGIN:VEVENT
DTSTART;TZID=Europe/Berlin:20240526T150000
DTEND;TZID=Europe/Berlin:20240526T170000
DTSTAMP:20260420T152351
CREATED:20240605T201657Z
LAST-MODIFIED:20240605T201924Z
UID:5645-1716735600-1716742800@shushan-ghazaryan.com
SUMMARY:Meister von Morgen in Bonn
DESCRIPTION:Electric CounterpointGitarrenensemble der hmt RostockSolist: Tristan AngenendtDirigent: Prof. Dr. Thomas OffermannGitarren:Siyi Zhou\, Nina Golubović\, Shushan Ghazaryan\,Alejandro López\, Fatbardh Prengjoni\, Raoul Biedinger\,Jumyong Stefes\, Nicolás Pulido\, David Angulo\,Smilla Pall\, Franziska Rolland\, Mauricio Lanza\,Andrej Pohl\, Helge NährigBass:Nina Steinert\, Jonas Brümmer
URL:https://shushan-ghazaryan.com/event/meister-von-morgen-in-bonn/
LOCATION:Kunstmuseum Bonn
CATEGORIES:Gitarrenensemble
ATTACH;FMTTYPE=image/jpeg:https://shushan-ghazaryan.com/wp-content/uploads/2024-gitarrenensemble-bonner-meisterkonzerte-stive-reich.jpg
END:VEVENT
BEGIN:VEVENT
DTSTART;TZID=Europe/Berlin:20240328T193000
DTEND;TZID=Europe/Berlin:20240328T210000
DTSTAMP:20260420T152351
CREATED:20240303T235112Z
LAST-MODIFIED:20240303T235442Z
UID:5598-1711654200-1711659600@shushan-ghazaryan.com
SUMMARY:Concert in Yerevan
DESCRIPTION:Johann S. Bach (1685 – 1750) – Suite c-Moll BWV 997 \n\n\n\nPrélude c c-MollFuga 6/8 c-MollSarabande 3/4 c-MollGigue 6/8 c-Moll – Double 6/8 c-Moll \n\n\n\nA. Barrios Mangoré (1885 – 1944) – Una Limosna por el Amor de Dios G. Regondi (1823-1872) – Introduction et Caprice\, Op.23Roland Dyens (1955 – 2016) – Songe Capricorne \n\n\n\nM. M. Ponce (1882-1948) – Sonata No. 3 \n\n\n\nI. Allegro moderato II. Cancion. AndanteIII. Allegro non troppo \n\n\n\nKonstantin Wassiliew (1971) – Three Forest Paintings \n\n\n\nII. The First SnowdropsIII. Dance Of The Forest Ghosts
URL:https://shushan-ghazaryan.com/event/concert-in-yerevan/
LOCATION:Hrant Matevossian Center\, Abovyan str 51/1\, yerevan\, Armenien
CATEGORIES:Solo Konzerte
ATTACH;FMTTYPE=image/jpeg:https://shushan-ghazaryan.com/wp-content/uploads/poster-shushan-ghazaryan-konzert-yerevan.jpg
ORGANIZER;CN="Hrant Matevossian Center":MAILTO:hrantmatevossian@gmail.com
END:VEVENT
BEGIN:VEVENT
DTSTART;TZID=Europe/Berlin:20240326T130000
DTEND;TZID=Europe/Berlin:20240326T170000
DTSTAMP:20260420T152351
CREATED:20240304T000337Z
LAST-MODIFIED:20240304T000406Z
UID:5609-1711458000-1711472400@shushan-ghazaryan.com
SUMMARY:Workshop Modern Guitar Technique in Gyumri
DESCRIPTION:
URL:https://shushan-ghazaryan.com/event/workshop-modern-guitar-technique-in-gyumri/
LOCATION:Gyumri Branch of Yerevan Komitas State Conservatory\, 1 Ankakhutyan Square\, Gyumri\, Armenien
ATTACH;FMTTYPE=image/jpeg:https://shushan-ghazaryan.com/wp-content/uploads/workshop-shushan-ghazaryan-gyumri.jpg
END:VEVENT
BEGIN:VEVENT
DTSTART;TZID=Europe/Berlin:20240309T170000
DTEND;TZID=Europe/Berlin:20240309T183000
DTSTAMP:20260420T152351
CREATED:20240303T234327Z
LAST-MODIFIED:20240304T002102Z
UID:5596-1710003600-1710009000@shushan-ghazaryan.com
SUMMARY:Gitarrenabend in Lübzin
DESCRIPTION:J. S. Bach (1685 – 1750) – Suite c-Moll BWV 997 \n\n\n\nPrélude c c-MollFuga 6/8 c-MollSarabande 3/4 c-MollGigue 6/8 c-Moll – Double 6/8 c-Moll \n\n\n\nA. Barrios Mangoré (1885 – 1944) – Una Limosna por el Amor de Dios G. Regondi (1823-1872) – Introduction et Caprice\, Op.23Roland Dyens (1955 – 2016) – Songe Capricorne \n\n\n\nM. M. Ponce (1882-1948) – Sonata No. 3 \n\n\n\nI. Allegro moderato II. Cancion. AndanteIII. Allegro non troppo \n\n\n\nKonstantin Wassiliew (1971) – Three Forest Paintings \n\n\n\nII. The First SnowdropsIII. Dance Of The Forest Ghosts
URL:https://shushan-ghazaryan.com/event/gitarrenabend-in-luebzin/
CATEGORIES:Solo Konzerte
ATTACH;FMTTYPE=image/jpeg:https://shushan-ghazaryan.com/wp-content/uploads/DSCF5438-scaled.jpg
END:VEVENT
BEGIN:VEVENT
DTSTART;TZID=Europe/Berlin:20230712T202000
DTEND;TZID=Europe/Berlin:20230712T202000
DTSTAMP:20260420T152351
CREATED:20231105T225725Z
LAST-MODIFIED:20231105T225813Z
UID:5523-1689193200-1689193200@shushan-ghazaryan.com
SUMMARY:Guitar Festival Mikulov
DESCRIPTION:Program: Marek Pasieczny – Ex Nihilo (Nihil Fit) \n\n\n\nGuitar Orchestra (Students of the University for Music and Theater Rostock and the International Guitar Academy Berlin) under the button of Thomas Offermann \n\n\n\nSoloists: Pia Gazarek Offermann\, Marek Pasieczny
URL:https://shushan-ghazaryan.com/event/guitar-festival-mikulov/
LOCATION:Castle Mikulov
END:VEVENT
BEGIN:VEVENT
DTSTART;TZID=Europe/Berlin:20230315T170000
DTEND;TZID=Europe/Berlin:20230315T190000
DTSTAMP:20260420T152351
CREATED:20231105T230410Z
LAST-MODIFIED:20231105T230454Z
UID:5526-1678899600-1678906800@shushan-ghazaryan.com
SUMMARY:Zeitreise I Masterabschluss
DESCRIPTION:Luis de Narváez (1500-1549) – aus dem Delphin de musica \n\n\n\nCanción del Emperador Mille regres de Josquin (Buch 3) \n\n\n\nFantasia del quarto tono (Buch 2) \n\n\n\nFantasia del primer tono (Buch 2) \n\n\n\nFantasia del primer tono (Buch 2)  \n\n\n\nFantasia del septimo tono (Buch 1)  \n\n\n\nJoaquín Turina (1882-1949) – Sonate op. 61 \n\n\n\nI. Allegro \n\n\n\nII. Andante \n\n\n\nIII. Allegro vivo \n\n\n\nAgustin Barrios Mangoré (1885-1944)  \n\n\n\nUna Limosna Por el Amor de Dios \n\n\n\nManuel María Ponce (1882-1948) – Sonate No. 3 \n\n\n\n          I. Allegro moderato  \n\n\n\n            II. Chanson  \n\n\n\n          III. Allegro non troppo \n\n\n\nPAUSE \n\n\n\nJohann Friedrich Fasch (1688 -1758) \n\n\n\nLute Concerto\, FaWV L:d1 \n\n\n\nJoaquín Rodrigo (1901-1999) \n\n\n\nFantasía para un gentilhombre
URL:https://shushan-ghazaryan.com/event/zeitreise-i-masterabschluss/
CATEGORIES:Solo Konzerte
ATTACH;FMTTYPE=image/png:https://shushan-ghazaryan.com/wp-content/uploads/Masterabschluss.png
END:VEVENT
BEGIN:VEVENT
DTSTART;TZID=Europe/Berlin:20230303T200000
DTEND;TZID=Europe/Berlin:20230303T220000
DTSTAMP:20260420T152351
CREATED:20220719T145903Z
LAST-MODIFIED:20220719T150400Z
UID:5191-1677873600-1677880800@shushan-ghazaryan.com
SUMMARY:Festival International Guitar Academy Berlin
DESCRIPTION:Teilnahme im Gitarrenorchester der IGAB und hmt Rostock.
URL:https://shushan-ghazaryan.com/event/festival-international-guitar-academy-berlin/
LOCATION:Renaissance Theater Berlin\, Knesebeckstraße 100\, Berlin\, 10623\, Deutschland
CATEGORIES:Gitarrenensemble
ATTACH;FMTTYPE=image/png:https://shushan-ghazaryan.com/wp-content/uploads/2022/07/Shushan-Ghazaryan.png
END:VEVENT
BEGIN:VEVENT
DTSTART;TZID=Europe/Berlin:20230224T190000
DTEND;TZID=Europe/Berlin:20230224T203000
DTSTAMP:20260420T152351
CREATED:20231105T231019Z
LAST-MODIFIED:20231105T232053Z
UID:5530-1677265200-1677270600@shushan-ghazaryan.com
SUMMARY:Der Weg der Gitarre
DESCRIPTION:Höhepunkte des Abends werden die Fantasía para un gentilhombre von Joaquín Rodrigo mit Klavier und das Concerto in d-Moll von Johann Friedrich Fasch mit Cembalo sein.
URL:https://shushan-ghazaryan.com/event/der-weg-der-gitarre/
LOCATION:Konservatorium Schwerin
CATEGORIES:Solo Konzerte
ATTACH;FMTTYPE=image/jpeg:https://shushan-ghazaryan.com/wp-content/uploads/IMG_1988.jpg
END:VEVENT
END:VCALENDAR