BEGIN:VCALENDAR
VERSION:2.0
PRODID:-//Shushan Ghazaryan - ECPv6.15.12.2//NONSGML v1.0//EN
CALSCALE:GREGORIAN
METHOD:PUBLISH
X-WR-CALNAME:Shushan Ghazaryan
X-ORIGINAL-URL:https://shushan-ghazaryan.com
X-WR-CALDESC:Veranstaltungen für Shushan Ghazaryan
REFRESH-INTERVAL;VALUE=DURATION:PT1H
X-Robots-Tag:noindex
X-PUBLISHED-TTL:PT1H
BEGIN:VTIMEZONE
TZID:Europe/Berlin
BEGIN:DAYLIGHT
TZOFFSETFROM:+0100
TZOFFSETTO:+0200
TZNAME:CEST
DTSTART:20240331T010000
END:DAYLIGHT
BEGIN:STANDARD
TZOFFSETFROM:+0200
TZOFFSETTO:+0100
TZNAME:CET
DTSTART:20241027T010000
END:STANDARD
BEGIN:DAYLIGHT
TZOFFSETFROM:+0100
TZOFFSETTO:+0200
TZNAME:CEST
DTSTART:20250330T010000
END:DAYLIGHT
BEGIN:STANDARD
TZOFFSETFROM:+0200
TZOFFSETTO:+0100
TZNAME:CET
DTSTART:20251026T010000
END:STANDARD
BEGIN:DAYLIGHT
TZOFFSETFROM:+0100
TZOFFSETTO:+0200
TZNAME:CEST
DTSTART:20260329T010000
END:DAYLIGHT
BEGIN:STANDARD
TZOFFSETFROM:+0200
TZOFFSETTO:+0100
TZNAME:CET
DTSTART:20261025T010000
END:STANDARD
END:VTIMEZONE
BEGIN:VEVENT
DTSTART;TZID=Europe/Berlin:20250706T130000
DTEND;TZID=Europe/Berlin:20250706T143000
DTSTAMP:20260420T214057
CREATED:20250604T204916Z
LAST-MODIFIED:20250604T214906Z
UID:5746-1751806800-1751812200@shushan-ghazaryan.com
SUMMARY:Konzert in Recknitz
DESCRIPTION:Programm: \n\n\n\nRoland Dyens (1955 – 2016) – Songe Capricorne \n\n\n\nJohann S. Bach (1685 – 1750) – Suite c-Moll BWV 997PréludeFugaSarabandeGigueDouble \n\n\n\nG. Regondi (1823-1872) – Introduction et Caprice\, Op.23 \n\n\n\nM. M. Ponce (1882-1948) – Sonata No. 3I. Allegro moderatoII. Cancion. AndanteIII. Allegro non troppo
URL:https://shushan-ghazaryan.com/event/konzert-in-recknitz/
LOCATION:Kultur.Feldstein.Kirche RECKNITZ\, Recknitz 8 18276 Plaaz
CATEGORIES:Solo Konzerte
ATTACH;FMTTYPE=image/jpeg:https://shushan-ghazaryan.com/wp-content/uploads/2023/10/shushan-ghazaryan-gitarre-schweriner-schlosspark-scaled.jpg
END:VEVENT
END:VCALENDAR